BEGIN:VCALENDAR
VERSION:2.0
PRODID:-//Tukios.com/
BEGIN:VEVENT
UID:69939ace-3139-4dd4-b72f-d79dd4602351@www.lafondardoin.com
DTSTAMP:20260423T102932Z
DTSTART:20260425T160000Z
DTEND:20260425T170000Z
SUMMARY:Mass of Christian Burial
DESCRIPTION:
URL:https://www.lafondardoin.com/obituaries/betty-artigue
LOCATION: 225 8th Ave  Krotz Springs LA 70750
GEO:30.5376186;-91.7566423
END:VEVENT
END:VCALENDAR