BEGIN:VCALENDAR
VERSION:2.0
PRODID:-//Tukios.com/
BEGIN:VEVENT
UID:96d4c185-c169-48da-997b-aa6931dfa437@www.lafondardoin.com
DTSTAMP:20260423T102607Z
DTSTART:20260424T190000Z
DTEND:20260425T010000Z
SUMMARY:Visitation
DESCRIPTION:
URL:https://www.lafondardoin.com/obituaries/betty-artigue
LOCATION: 239 8th Ave  Krotz Springs LA 70750
GEO:30.5379521;-91.7569431
END:VEVENT
END:VCALENDAR