BEGIN:VCALENDAR
VERSION:2.0
PRODID:-//Tukios.com/
BEGIN:VEVENT
UID:92d3e1a0-dc62-4312-a0e7-f709f19e2dea@www.lafondardoin.com
DTSTAMP:20260423T102932Z
DTSTART:20260424T230000Z
DTEND:20260424T231500Z
SUMMARY:Rosary Service
DESCRIPTION:
URL:https://www.lafondardoin.com/obituaries/betty-artigue
LOCATION: 239 8th Ave  Krotz Springs LA 70750
GEO:30.5379521;-91.7569431
END:VEVENT
END:VCALENDAR