BEGIN:VCALENDAR
VERSION:2.0
PRODID:-//Tukios.com/
BEGIN:VEVENT
UID:52cac4be-4467-4a8e-a0eb-298910669bb9@www.lafondardoin.com
DTSTAMP:20260423T102631Z
DTSTART:20260425T130000Z
DTEND:20260425T153000Z
SUMMARY:Re-Open for Visitation
DESCRIPTION:
URL:https://www.lafondardoin.com/obituaries/betty-artigue
LOCATION: 239 8th Ave  Krotz Springs LA 70750
GEO:30.5379521;-91.7569431
END:VEVENT
END:VCALENDAR