BEGIN:VCALENDAR
VERSION:2.0
PRODID:-//Tukios.com/
BEGIN:VEVENT
UID:3dcb77ee-83c8-4f43-bcbf-2caf468d7dc6@www.lafondardoin.com
DTSTAMP:20260423T102310Z
DTSTART:20260425T171500Z
DTEND:20260425T181500Z
SUMMARY:Rite of Committal and Burial
DESCRIPTION:
URL:https://www.lafondardoin.com/obituaries/betty-artigue
LOCATION: 225 Eighth Avenue  Krotz Springs LA 70750
GEO:30.5361739;-91.7566427
END:VEVENT
END:VCALENDAR