BEGIN:VCALENDAR
VERSION:2.0
PRODID:-//Tukios.com/
BEGIN:VEVENT
UID:8a646919-e2e2-457c-b73d-669277495e0e@www.lafondardoin.com
DTSTAMP:20260423T004040Z
DTSTART:20260427T150000Z
DTEND:20260427T154500Z
SUMMARY:Mass
DESCRIPTION:
URL:https://www.lafondardoin.com/obituaries/johnny-timmons
LOCATION: 1020 N Main St  Opelousas LA 70570
GEO:30.5433673;-92.0793519
END:VEVENT
END:VCALENDAR