BEGIN:VCALENDAR
VERSION:2.0
PRODID:-//Tukios.com/
BEGIN:VEVENT
UID:0e3256a6-59e6-428b-a4f3-a26c3b490e2c@www.lafondardoin.com
DTSTAMP:20260423T003502Z
DTSTART:20260426T220000Z
DTEND:20260427T010000Z
SUMMARY:Visitation
DESCRIPTION:
URL:https://www.lafondardoin.com/obituaries/johnny-timmons
LOCATION: 2845 S Union St  Opelousas LA 70570
GEO:30.5023641;-92.0865628
END:VEVENT
END:VCALENDAR