BEGIN:VCALENDAR
VERSION:2.0
PRODID:-//Tukios.com/
BEGIN:VEVENT
UID:241aa83f-004c-4b10-8af7-693e2b0d576b@www.lafondardoin.com
DTSTAMP:20260423T003335Z
DTSTART:20260426T230000Z
DTEND:20260426T231500Z
SUMMARY:Rosary
DESCRIPTION:
URL:https://www.lafondardoin.com/obituaries/johnny-timmons
LOCATION: 2845 S Union St  Opelousas LA 70570
GEO:30.5023641;-92.0865628
END:VEVENT
END:VCALENDAR