BEGIN:VCALENDAR
VERSION:2.0
PRODID:-//Tukios.com/
BEGIN:VEVENT
UID:34f8e5b0-dc48-4693-bf90-71702523364f@www.lafondardoin.com
DTSTAMP:20260423T003933Z
DTSTART:20260427T130000Z
DTEND:20260427T143000Z
SUMMARY:Re-Open for Visitation
DESCRIPTION:
URL:https://www.lafondardoin.com/obituaries/johnny-timmons
LOCATION: 2845 S Union St  Opelousas LA 70570
GEO:30.5023641;-92.0865628
END:VEVENT
END:VCALENDAR