BEGIN:VCALENDAR
VERSION:2.0
PRODID:-//Tukios.com/
BEGIN:VEVENT
UID:d4dd14ad-1775-43f0-8507-f06557316666@www.lafondardoin.com
DTSTAMP:20260423T003812Z
DTSTART:20260427T154500Z
DTEND:20260427T160000Z
SUMMARY:Rite of Committal and Burial
DESCRIPTION:
URL:https://www.lafondardoin.com/obituaries/johnny-timmons
LOCATION: 1020 N Main St  Opelousas LA 70570
GEO:30.5433673;-92.0793519
END:VEVENT
END:VCALENDAR