BEGIN:VCALENDAR
VERSION:2.0
PRODID:-//Tukios.com/
BEGIN:VEVENT
UID:795ea165-b8c7-4460-b047-b84b0f870a53@www.lafondardoin.com
DTSTAMP:20260419T201527Z
DTSTART:20260420T223000Z
DTEND:20260421T010000Z
SUMMARY:Visitation
DESCRIPTION:
URL:https://www.lafondardoin.com/obituaries/priscilla-carriere
LOCATION:LaFond-Ardoin Funeral Home 2845 S Union St  Opelousas LA 70570
GEO:30.5024179;-92.0861625
END:VEVENT
END:VCALENDAR