BEGIN:VCALENDAR
VERSION:2.0
PRODID:-//Tukios.com/
BEGIN:VEVENT
UID:c2557a87-92b4-41db-a31c-e4eb9d112904@www.lafondardoin.com
DTSTAMP:20260419T200949Z
DTSTART:20260420T233000Z
DTEND:20260421T000000Z
SUMMARY:Rosary
DESCRIPTION:
URL:https://www.lafondardoin.com/obituaries/priscilla-carriere
LOCATION: 2845 S Union St  Opelousas LA 70570
GEO:30.5024179;-92.0861625
END:VEVENT
END:VCALENDAR